BEGIN:VCALENDAR
VERSION:2.0
PRODID:-//Leap Tampa Bay - ECPv6.15.19//NONSGML v1.0//EN
CALSCALE:GREGORIAN
METHOD:PUBLISH
X-ORIGINAL-URL:https://leaptampabay.org
X-WR-CALDESC:Events for Leap Tampa Bay
REFRESH-INTERVAL;VALUE=DURATION:PT1H
X-Robots-Tag:noindex
X-PUBLISHED-TTL:PT1H
BEGIN:VTIMEZONE
TZID:America/New_York
BEGIN:DAYLIGHT
TZOFFSETFROM:-0500
TZOFFSETTO:-0400
TZNAME:EDT
DTSTART:20240310T070000
END:DAYLIGHT
BEGIN:STANDARD
TZOFFSETFROM:-0400
TZOFFSETTO:-0500
TZNAME:EST
DTSTART:20241103T060000
END:STANDARD
BEGIN:DAYLIGHT
TZOFFSETFROM:-0500
TZOFFSETTO:-0400
TZNAME:EDT
DTSTART:20250309T070000
END:DAYLIGHT
BEGIN:STANDARD
TZOFFSETFROM:-0400
TZOFFSETTO:-0500
TZNAME:EST
DTSTART:20251102T060000
END:STANDARD
BEGIN:DAYLIGHT
TZOFFSETFROM:-0500
TZOFFSETTO:-0400
TZNAME:EDT
DTSTART:20260308T070000
END:DAYLIGHT
BEGIN:STANDARD
TZOFFSETFROM:-0400
TZOFFSETTO:-0500
TZNAME:EST
DTSTART:20261101T060000
END:STANDARD
END:VTIMEZONE
BEGIN:VEVENT
DTSTART;TZID=America/New_York:20250607T090000
DTEND;TZID=America/New_York:20250607T120000
DTSTAMP:20260421T012605
CREATED:20250529T180053Z
LAST-MODIFIED:20250529T180053Z
UID:10000030-1749286800-1749297600@leaptampabay.org
SUMMARY:PCS and SPC FAFSA Completion
DESCRIPTION:Still Not Sure What Your Next Steps are?\nJoin us at the PCS and SPC FAFSA Completion and College & Career Mini-Fair Complete the FAFSA\, meet with colleges\, technical schools\, scholarships organizations\, and more! \nRegister Here: https://forms.office.com/Pages/ResponsePage.aspx?id=BZM8c9c5GkaGb_3ye_PH_3JlEDd9DiZPs6_wCkpnROJURUFKSVowR0JNV1pMTEdWSFVROUtINjFLTS4u&origin=QRCode
URL:https://leaptampabay.org/event/pcs-and-spc-fafsa-completion/
LOCATION:SPC Midtown\, 1300 22nd St S\, Saint Petersburg\, FL\, 33712\, United States
CATEGORIES:FAFSA
ATTACH;FMTTYPE=application/pdf:https://leaptampabay.org/wp-content/uploads/2025/05/PCS-SPC-FAFSA.pdf
END:VEVENT
END:VCALENDAR