BEGIN:VCALENDAR
VERSION:2.0
PRODID:-//Leap Tampa Bay - ECPv6.15.19//NONSGML v1.0//EN
CALSCALE:GREGORIAN
METHOD:PUBLISH
X-WR-CALNAME:Leap Tampa Bay
X-ORIGINAL-URL:https://leaptampabay.org
X-WR-CALDESC:Events for Leap Tampa Bay
REFRESH-INTERVAL;VALUE=DURATION:PT1H
X-Robots-Tag:noindex
X-PUBLISHED-TTL:PT1H
BEGIN:VTIMEZONE
TZID:America/New_York
BEGIN:DAYLIGHT
TZOFFSETFROM:-0500
TZOFFSETTO:-0400
TZNAME:EDT
DTSTART:20240310T070000
END:DAYLIGHT
BEGIN:STANDARD
TZOFFSETFROM:-0400
TZOFFSETTO:-0500
TZNAME:EST
DTSTART:20241103T060000
END:STANDARD
BEGIN:DAYLIGHT
TZOFFSETFROM:-0500
TZOFFSETTO:-0400
TZNAME:EDT
DTSTART:20250309T070000
END:DAYLIGHT
BEGIN:STANDARD
TZOFFSETFROM:-0400
TZOFFSETTO:-0500
TZNAME:EST
DTSTART:20251102T060000
END:STANDARD
BEGIN:DAYLIGHT
TZOFFSETFROM:-0500
TZOFFSETTO:-0400
TZNAME:EDT
DTSTART:20260308T070000
END:DAYLIGHT
BEGIN:STANDARD
TZOFFSETFROM:-0400
TZOFFSETTO:-0500
TZNAME:EST
DTSTART:20261101T060000
END:STANDARD
END:VTIMEZONE
BEGIN:VEVENT
DTSTART;TZID=America/New_York:20250210T173000
DTEND;TZID=America/New_York:20250210T193000
DTSTAMP:20260420T203351
CREATED:20250207T182532Z
LAST-MODIFIED:20250207T182532Z
UID:10000023-1739208600-1739215800@leaptampabay.org
SUMMARY:Osceola Fundamental High School FAFSA Night
DESCRIPTION:The FAFSA\, or Free Application for Federal Student Aid\, is an application that can help you secure scholarships\, grants and loans to pay for college. Pinellas County Schools is here to help you complete your FAFSA and answer any questions you may have at a FAFSA Completion Night! \n  \nJoin us from 5:30pm – 7:30pm in Media Center.  Please arrive no later than 6:30pm to ensure you have enough time to complete your FAFSA.
URL:https://leaptampabay.org/event/osceola-fundamental-high-school-fafsa-night/
LOCATION:Osceola Fundamental  High School\, 9751 98th St N\, Seminole\, FL\, 33777\, United States
CATEGORIES:FAFSA
ATTACH;FMTTYPE=application/pdf:https://leaptampabay.org/wp-content/uploads/2025/02/Osceola.pdf
END:VEVENT
BEGIN:VEVENT
DTSTART;TZID=America/New_York:20250211T173000
DTEND;TZID=America/New_York:20250211T203000
DTSTAMP:20260420T203351
CREATED:20250207T183209Z
LAST-MODIFIED:20250207T183209Z
UID:10000024-1739295000-1739305800@leaptampabay.org
SUMMARY:Hollins High School FAFSA Event
DESCRIPTION:The FAFSA\, or Free Application for Federal Student Aid\, is an application that can help you secure scholarships\, grants and loans to pay for college. Pinellas County Schools is here to help you complete your FAFSA and answer any questions you may have at a FAFSA Completion Night! \n  \nJoin us from 5:30pm – 7:30pm in Media Center. Please arrive no later than 6:30pm to ensure you have enough time to complete your FAFSA.
URL:https://leaptampabay.org/event/hollins-high-school-fafsa-event/
LOCATION:Hollis High School\, 4940 62nd St. N\, Saint Petersburg\, FL\, 33709\, United States
CATEGORIES:FAFSA
ATTACH;FMTTYPE=application/pdf:https://leaptampabay.org/wp-content/uploads/2025/02/Hollis.pdf
END:VEVENT
BEGIN:VEVENT
DTSTART;TZID=America/New_York:20250213T170000
DTEND;TZID=America/New_York:20250213T190000
DTSTAMP:20260420T203351
CREATED:20250207T185255Z
LAST-MODIFIED:20250207T185255Z
UID:10000027-1739466000-1739473200@leaptampabay.org
SUMMARY:Leto High School FAFSA Event
DESCRIPTION:Seniors and their families are invited to attend this FAFSA event to get assistance completing the Free Application for Federal Student Aid. Hillsborough County Public Schools has teamed up with the staff from Hillsborough Community College\, the University of South Florida\, and the University of Tampa to provide help and answer any questions you might have about financial aid during this event. \nCome visit us from 5pm to 7pm in the Media center.  \nFor more information please visit https://www.hillsboroughschools.org/fafsa
URL:https://leaptampabay.org/event/leto-high-school-fafsa-event/
LOCATION:Leto High School\, 4409 W Sligh Ave\, Tampa\, FL\, 33614\, United States
CATEGORIES:FAFSA
ATTACH;FMTTYPE=application/pdf:https://leaptampabay.org/wp-content/uploads/2025/02/Leto.pdf
END:VEVENT
BEGIN:VEVENT
DTSTART;TZID=America/New_York:20250213T173000
DTEND;TZID=America/New_York:20250213T203000
DTSTAMP:20260420T203351
CREATED:20250207T184055Z
LAST-MODIFIED:20250207T184055Z
UID:10000025-1739467800-1739478600@leaptampabay.org
SUMMARY:Clearwater High School FAFSA Event
DESCRIPTION:The FAFSA\, or Free Application for Federal Student Aid\, is an application that can help you secure scholarships\, grants and loans to pay for college. Pinellas County Schools is here to help you complete your FAFSA and answer any questions you may have at a FAFSA Completion Night! \n  \nJoin us from 5:30pm – 7:30pm in Media Center. Please arrive no later than 6:30pm to ensure you have enough time to complete your FAFSA.
URL:https://leaptampabay.org/event/clearwater-high-school-fafsa-event/
LOCATION:Clearwater High School\, 1951 Gulf to Bay Blvd\, Clearwater\, FL\, 33764\, United States
CATEGORIES:FAFSA
ATTACH;FMTTYPE=application/pdf:https://leaptampabay.org/wp-content/uploads/2025/02/clearwater.pdf
END:VEVENT
BEGIN:VEVENT
DTSTART;TZID=America/New_York:20250217T173000
DTEND;TZID=America/New_York:20250217T193000
DTSTAMP:20260420T203351
CREATED:20250207T184751Z
LAST-MODIFIED:20250207T184751Z
UID:10000026-1739813400-1739820600@leaptampabay.org
SUMMARY:Gibbs High School FAFSA Events
DESCRIPTION:The FAFSA\, or Free Application for Federal Student Aid\, is an application that can help you secure scholarships\, grants and loans to pay for college. Pinellas County Schools is here to help you complete your FAFSA and answer any questions you may have at a FAFSA Completion Night! \n  \nJoin us from 5:30pm – 7:30pm in Media Center. Please arrive no later than 6:30pm to ensure you have enough time to complete your FAFSA.
URL:https://leaptampabay.org/event/gibbs-high-school-fafsa-events/
LOCATION:Gibbs High School\, 850 34th St S\, Saint Petersburg\, FL\, 33711\, United States
CATEGORIES:FAFSA
ATTACH;FMTTYPE=application/pdf:https://leaptampabay.org/wp-content/uploads/2025/02/gibbs.pdf
END:VEVENT
BEGIN:VEVENT
DTSTART;TZID=America/New_York:20250220T170000
DTEND;TZID=America/New_York:20250220T190000
DTSTAMP:20260420T203351
CREATED:20250207T185616Z
LAST-MODIFIED:20250207T185616Z
UID:10000028-1740070800-1740078000@leaptampabay.org
SUMMARY:Jefferson High School FAFASA Event
DESCRIPTION:Seniors and their families are invited to attend this FAFSA event to get assistance completing the Free Application for Federal Student Aid. Hillsborough County Public Schools has teamed up with the staff from Hillsborough Community College\, the University of South Florida\, and the University of Tampa to provide help and answer any questions you might have about financial aid during this event. \nCome visit us from 5pm to 7pm in the Media center.  \nFor more information please visit https://www.hillsboroughschools.org/fafsa
URL:https://leaptampabay.org/event/jefferson-high-school-fafasa-event/
LOCATION:Jefferson High School\, 4401 W Cypress S\, Tampa\, FL\, 33607\, United States
CATEGORIES:FAFSA
ATTACH;FMTTYPE=application/pdf:https://leaptampabay.org/wp-content/uploads/2025/02/Jefferson.pdf
END:VEVENT
BEGIN:VEVENT
DTSTART;TZID=America/New_York:20250227T170000
DTEND;TZID=America/New_York:20250227T190000
DTSTAMP:20260420T203351
CREATED:20250207T190503Z
LAST-MODIFIED:20250207T190503Z
UID:10000029-1740675600-1740682800@leaptampabay.org
SUMMARY:Steinbrenner High School FAFSA events
DESCRIPTION:Seniors and their families are invited to attend this FAFSA event to get assistance completing the Free Application for Federal Student Aid. Hillsborough County Public Schools has teamed up with the staff from Hillsborough Community College\, the University of South Florida\, and the University of Tampa to provide help and answer any questions you might have about financial aid during this event. \nCome visit us from 5pm to 7pm in the Media center.  \nFor more information please visit https://www.hillsboroughschools.org/fafsa
URL:https://leaptampabay.org/event/steinbrenner-high-school-fafsa-events/
LOCATION:Steinbrenner High School\, 5575 W Lutz Lake Fern Rd\, Lutz\, FL\, 33558\, United States
CATEGORIES:FAFSA
ATTACH;FMTTYPE=application/pdf:https://leaptampabay.org/wp-content/uploads/2025/02/Steinbrenner.pdf
END:VEVENT
END:VCALENDAR