BEGIN:VCALENDAR
VERSION:2.0
PRODID:-//Leap Tampa Bay - ECPv6.15.19//NONSGML v1.0//EN
CALSCALE:GREGORIAN
METHOD:PUBLISH
X-WR-CALNAME:Leap Tampa Bay
X-ORIGINAL-URL:https://leaptampabay.org
X-WR-CALDESC:Events for Leap Tampa Bay
REFRESH-INTERVAL;VALUE=DURATION:PT1H
X-Robots-Tag:noindex
X-PUBLISHED-TTL:PT1H
BEGIN:VTIMEZONE
TZID:America/New_York
BEGIN:DAYLIGHT
TZOFFSETFROM:-0500
TZOFFSETTO:-0400
TZNAME:EDT
DTSTART:20240310T070000
END:DAYLIGHT
BEGIN:STANDARD
TZOFFSETFROM:-0400
TZOFFSETTO:-0500
TZNAME:EST
DTSTART:20241103T060000
END:STANDARD
BEGIN:DAYLIGHT
TZOFFSETFROM:-0500
TZOFFSETTO:-0400
TZNAME:EDT
DTSTART:20250309T070000
END:DAYLIGHT
BEGIN:STANDARD
TZOFFSETFROM:-0400
TZOFFSETTO:-0500
TZNAME:EST
DTSTART:20251102T060000
END:STANDARD
BEGIN:DAYLIGHT
TZOFFSETFROM:-0500
TZOFFSETTO:-0400
TZNAME:EDT
DTSTART:20260308T070000
END:DAYLIGHT
BEGIN:STANDARD
TZOFFSETFROM:-0400
TZOFFSETTO:-0500
TZNAME:EST
DTSTART:20261101T060000
END:STANDARD
END:VTIMEZONE
BEGIN:VEVENT
DTSTART;TZID=America/New_York:20250127T173000
DTEND;TZID=America/New_York:20250127T193000
DTSTAMP:20260420T203203
CREATED:20250116T154544Z
LAST-MODIFIED:20250116T154544Z
UID:10000018-1737999000-1738006200@leaptampabay.org
SUMMARY:Lakewood High School
DESCRIPTION:The FAFSA\, or Free Application for Federal Student Aid\, is an application that can help you secure scholarships\, grants and loans to pay for college. Pinellas County Schools is here to help you complete your FAFSA and answer any questions you may have at a FAFSA Completion Night! \n  \nJoin us from 5:30pm – 7:30pm in Room A-101. Please arrive no later than 6:30pm to ensure you have enough time to complete your FAFSA.
URL:https://leaptampabay.org/event/lakewood-high-school/
LOCATION:Lakewood High School\, 1400 54th Ave S\,\, St. Petersburg\,\, FL\, 33705\, United States
CATEGORIES:FAFSA
ATTACH;FMTTYPE=application/pdf:https://leaptampabay.org/wp-content/uploads/2025/01/Lakewood.pdf
END:VEVENT
BEGIN:VEVENT
DTSTART;TZID=America/New_York:20250127T173000
DTEND;TZID=America/New_York:20250127T193000
DTSTAMP:20260420T203203
CREATED:20250116T155242Z
LAST-MODIFIED:20250116T155242Z
UID:10000019-1737999000-1738006200@leaptampabay.org
SUMMARY:St. Petersburg High School
DESCRIPTION:The FAFSA\, or Free Application for Federal Student Aid\, is an application that can help you secure scholarships\, grants and loans to pay for college. Pinellas County Schools is here to help you complete your FAFSA and answer any questions you may have at a FAFSA Completion Night! \n  \nJoin us from 5:30pm – 7:30pm in Media Center. Please arrive no later than 6:30pm to ensure you have enough time to complete your FAFSA.
URL:https://leaptampabay.org/event/st-petersburg-high-school/
LOCATION:St. Petersburg High School\, 2501 5th Ave N\, St. Petersburg\, FL\, 33713\, United States
CATEGORIES:FAFSA
ATTACH;FMTTYPE=application/pdf:https://leaptampabay.org/wp-content/uploads/2025/01/St-Pete.pdf
END:VEVENT
END:VCALENDAR