BEGIN:VCALENDAR
VERSION:2.0
PRODID:-//Leap Tampa Bay - ECPv6.15.19//NONSGML v1.0//EN
CALSCALE:GREGORIAN
METHOD:PUBLISH
X-WR-CALNAME:Leap Tampa Bay
X-ORIGINAL-URL:https://leaptampabay.org
X-WR-CALDESC:Events for Leap Tampa Bay
REFRESH-INTERVAL;VALUE=DURATION:PT1H
X-Robots-Tag:noindex
X-PUBLISHED-TTL:PT1H
BEGIN:VTIMEZONE
TZID:America/New_York
BEGIN:DAYLIGHT
TZOFFSETFROM:-0500
TZOFFSETTO:-0400
TZNAME:EDT
DTSTART:20240310T070000
END:DAYLIGHT
BEGIN:STANDARD
TZOFFSETFROM:-0400
TZOFFSETTO:-0500
TZNAME:EST
DTSTART:20241103T060000
END:STANDARD
BEGIN:DAYLIGHT
TZOFFSETFROM:-0500
TZOFFSETTO:-0400
TZNAME:EDT
DTSTART:20250309T070000
END:DAYLIGHT
BEGIN:STANDARD
TZOFFSETFROM:-0400
TZOFFSETTO:-0500
TZNAME:EST
DTSTART:20251102T060000
END:STANDARD
BEGIN:DAYLIGHT
TZOFFSETFROM:-0500
TZOFFSETTO:-0400
TZNAME:EDT
DTSTART:20260308T070000
END:DAYLIGHT
BEGIN:STANDARD
TZOFFSETFROM:-0400
TZOFFSETTO:-0500
TZNAME:EST
DTSTART:20261101T060000
END:STANDARD
END:VTIMEZONE
BEGIN:VEVENT
DTSTART;TZID=America/New_York:20250123T170000
DTEND;TZID=America/New_York:20250123T190000
DTSTAMP:20260420T172342
CREATED:20250109T213018Z
LAST-MODIFIED:20250109T213647Z
UID:10000012-1737651600-1737658800@leaptampabay.org
SUMMARY:Tampa Bay Tech High School FAFSA event
DESCRIPTION:Seniors and their families are invited to attend this FAFSA event to get assistance completing the Free Application for Federal Student Aid. Hillsborough County Public Schools has teamed up with the staff from Hillsborough Community College\, the University of South Florida\, and the University of Tampa to provide help and answer any questions you might have about financial aid during this event. \nCome visit us from 5pm to 7pm in the Media center.  \nFor more information please visit https://www.hillsboroughschools.org/fafsa
URL:https://leaptampabay.org/event/tampa-bay-tech-high-school-fafsa-event/
LOCATION:Tampa Bay Tech High School\, 6410 Orient Rd\, Tampa\, FL\, 33610\, United States
CATEGORIES:FAFSA
ATTACH;FMTTYPE=application/pdf:https://leaptampabay.org/wp-content/uploads/2025/01/Tampa-Bay-Tech.pdf
END:VEVENT
BEGIN:VEVENT
DTSTART;TZID=America/New_York:20250123T173000
DTEND;TZID=America/New_York:20250123T193000
DTSTAMP:20260420T172342
CREATED:20250116T154027Z
LAST-MODIFIED:20250116T154027Z
UID:10000017-1737653400-1737660600@leaptampabay.org
SUMMARY:Countryside High School
DESCRIPTION:The FAFSA\, or Free Application for Federal Student Aid\, is an application that can help you secure scholarships\, grants and loans to pay for college. Pinellas County Schools is here to help you complete your FAFSA and answer any questions you may have at a FAFSA Completion Night! \n  \nJoin us from 5:30pm – 7:30pm in Media Center. Please arrive no later than 6:30pm to ensure you have enough time to complete your FAFSA. \n 
URL:https://leaptampabay.org/event/countryside-high-school/
LOCATION:Countryside High School\, 3000 State Rd 580\,\, Clearwater\, FL\, 33761\, United States
CATEGORIES:FAFSA
ATTACH;FMTTYPE=application/pdf:https://leaptampabay.org/wp-content/uploads/2025/01/Countryside.pdf
END:VEVENT
END:VCALENDAR